-0.00000000000000
-0.09000000000000
-0.09000000000000
0.00000000000000
683913.77622503776000
261198.60029365550000
