-0.00000000000000
-0.09000000000000
-0.09000000000000
0.00000000000000
683907.77622503776000
263120.60029365547000
