-0.00000000000000
-0.09000000000000
-0.09000000000000
0.00000000000000
683885.77622503776000
267425.60029365547000
