-0.00000000000000
-0.09000000000000
-0.09000000000000
0.00000000000000
683881.77622503776000
271724.60029365547000
