-0.00000000000000
-0.09000000000000
-0.09000000000000
0.00000000000000
683879.77622503776000
275059.60029365547000
