-0.00000000000000
-0.09000000000000
-0.09000000000000
0.00000000000000
683877.77622503776000
275618.60029365547000
