0.00000000000000
0.09000000000000
0.09000000000000
-0.00000000000000
681018.22377496224000
264293.39970634453000
