0.00000000000000
0.09000000000000
0.09000000000000
-0.00000000000000
680989.22377496224000
275181.39970634453000
