0.00000000000000
0.09000000000000
0.09000000000000
-0.00000000000000
680992.22377496224000
275776.39970634453000
