0.00000000000000
0.09000000000000
0.09000000000000
-0.00000000000000
678838.22377496224000
254078.39970634450000
