0.00000000000000
0.09000000000000
0.09000000000000
-0.00000000000000
678825.22377496224000
257207.39970634450000
