0.00000000000000
0.09000000000000
0.09000000000000
-0.00000000000000
678823.22377496224000
257838.39970634450000
