0.00000000000000
0.09000000000000
0.09000000000000
-0.00000000000000
678830.22377496224000
261567.39970634450000
