0.00000000000000
0.09000000000000
0.09000000000000
-0.00000000000000
678810.22377496224000
264776.39970634453000
