0.00000000000000
0.09000000000000
0.09000000000000
-0.00000000000000
678805.22377496224000
267650.39970634453000
