-0.00000000000000
-0.09000000000000
-0.09000000000000
0.00000000000000
679475.77622503776000
265225.60029365547000
