-0.00000000000000
-0.09000000000000
-0.09000000000000
0.00000000000000
679478.77622503776000
265794.60029365547000
