0.00000000000000
0.09000000000000
0.09000000000000
-0.00000000000000
676720.22377496224000
258822.39970634450000
