-0.00000000000000
-0.09000000000000
-0.09000000000000
0.00000000000000
677407.77622503776000
256245.60029365550000
