-0.00000000000000
-0.09000000000000
-0.09000000000000
0.00000000000000
677394.77622503776000
258103.60029365550000
