-0.00000000000000
-0.09000000000000
-0.09000000000000
0.00000000000000
677367.77622503776000
265184.60029365547000
