-0.00000000000000
-0.09000000000000
-0.09000000000000
0.00000000000000
677371.77622503776000
268194.60029365547000
