-0.00000000000000
-0.09000000000000
-0.09000000000000
0.00000000000000
677364.77622503776000
271180.60029365547000
