0.00000000000000
0.09000000000000
0.09000000000000
-0.00000000000000
674419.22377496224000
256013.39970634450000
