0.00000000000000
0.09000000000000
0.09000000000000
-0.00000000000000
674402.22377496224000
257299.39970634450000
