0.00000000000000
0.09000000000000
0.09000000000000
-0.00000000000000
674386.22377496224000
263084.39970634453000
