0.00000000000000
0.09000000000000
0.09000000000000
-0.00000000000000
674389.22377496224000
264291.39970634453000
