-0.00000000000000
-0.09000000000000
-0.09000000000000
0.00000000000000
675124.77622503776000
263251.60029365547000
