-0.00000000000000
-0.09000000000000
-0.09000000000000
0.00000000000000
675109.77622503776000
268386.60029365547000
