-0.00000000000000
-0.09000000000000
-0.09000000000000
0.00000000000000
675106.77622503776000
269039.60029365547000
