0.00000000000000
0.09000000000000
0.09000000000000
-0.00000000000000
672253.22377496224000
253100.39970634450000
