0.00000000000000
0.09000000000000
0.09000000000000
-0.00000000000000
672263.22377496224000
256999.39970634450000
