0.00000000000000
0.09000000000000
0.09000000000000
-0.00000000000000
672257.22377496224000
259311.39970634450000
