0.00000000000000
0.09000000000000
0.09000000000000
-0.00000000000000
671207.22377496224000
253089.39970634450000
