0.00000000000000
0.09000000000000
0.09000000000000
-0.00000000000000
671201.22377496224000
259505.39970634450000
