0.00000000000000
0.09000000000000
0.09000000000000
-0.00000000000000
670058.22377496224000
253571.39970634450000
