0.00000000000000
0.09000000000000
0.09000000000000
-0.00000000000000
670066.22377496224000
255518.39970634450000
