0.00000000000000
0.09000000000000
0.09000000000000
-0.00000000000000
670048.22377496224000
258413.39970634450000
