0.00000000000000
0.09000000000000
0.09000000000000
-0.00000000000000
670046.22377496224000
259941.39970634450000
