0.00000000000000
0.09000000000000
0.09000000000000
-0.00000000000000
670055.22377496224000
260464.39970634450000
