0.00000000000000
0.09000000000000
0.09000000000000
-0.00000000000000
670030.22377496224000
262584.39970634453000
