0.00000000000000
0.09000000000000
0.09000000000000
-0.00000000000000
669093.22377496224000
258409.39970634450000
