0.00000000000000
0.09000000000000
0.09000000000000
-0.00000000000000
669072.22377496224000
262189.39970634453000
