0.00000000000000
0.10000000000000
0.10000000000000
-0.00000000000000
688544.28562495904000
223779.82468080934000
