0.00000000000000
0.10000000000000
0.10000000000000
-0.00000000000000
688524.28562495904000
228209.82468080934000
