0.00000000000000
0.10000000000000
0.10000000000000
-0.00000000000000
688554.28562495904000
231237.82468080934000
