0.00000000000000
0.10000000000000
0.10000000000000
-0.00000000000000
688548.28562495904000
231773.82468080934000
