0.00000000000000
0.10000000000000
0.10000000000000
-0.00000000000000
688532.28562495904000
233045.82468080934000
