0.00000000000000
0.10000000000000
0.10000000000000
-0.00000000000000
688542.28562495904000
236399.82468080934000
