0.00000000000000
0.10000000000000
0.10000000000000
-0.00000000000000
688536.28562495904000
240314.82468080934000
